BEGIN:VCALENDAR
VERSION:2.0
PRODID:-//Buck Hill Brewery and Restaurant - ECPv6.15.17.1//NONSGML v1.0//EN
CALSCALE:GREGORIAN
METHOD:PUBLISH
X-ORIGINAL-URL:https://buckhillbrewery.com
X-WR-CALDESC:Events for Buck Hill Brewery and Restaurant
REFRESH-INTERVAL;VALUE=DURATION:PT1H
X-Robots-Tag:noindex
X-PUBLISHED-TTL:PT1H
BEGIN:VTIMEZONE
TZID:America/New_York
BEGIN:DAYLIGHT
TZOFFSETFROM:-0500
TZOFFSETTO:-0400
TZNAME:EDT
DTSTART:20180311T070000
END:DAYLIGHT
BEGIN:STANDARD
TZOFFSETFROM:-0400
TZOFFSETTO:-0500
TZNAME:EST
DTSTART:20181104T060000
END:STANDARD
BEGIN:DAYLIGHT
TZOFFSETFROM:-0500
TZOFFSETTO:-0400
TZNAME:EDT
DTSTART:20190310T070000
END:DAYLIGHT
BEGIN:STANDARD
TZOFFSETFROM:-0400
TZOFFSETTO:-0500
TZNAME:EST
DTSTART:20191103T060000
END:STANDARD
BEGIN:DAYLIGHT
TZOFFSETFROM:-0500
TZOFFSETTO:-0400
TZNAME:EDT
DTSTART:20200308T070000
END:DAYLIGHT
BEGIN:STANDARD
TZOFFSETFROM:-0400
TZOFFSETTO:-0500
TZNAME:EST
DTSTART:20201101T060000
END:STANDARD
END:VTIMEZONE
BEGIN:VEVENT
DTSTART;TZID=America/New_York:20190211T160000
DTEND;TZID=America/New_York:20190211T180000
DTSTAMP:20260422T033008
CREATED:20190208T202835Z
LAST-MODIFIED:20190429T190835Z
UID:5190-1549900800-1549908000@buckhillbrewery.com
SUMMARY:Shake Off the Start of the Work Week!
DESCRIPTION:Share on FacebookShare on TwitterShare on Linkedin	        	    \n	    $1 Off Buck Hill Drafts and House Wine Glasses \n$1 oysters from 4pm until we run out \n$2 Off Mixed Drinks* \n*Exclusions Apply \n4pm – 6pm \nBar Only
URL:https://buckhillbrewery.com/event/shake-off-the-start-of-the-work-week/2019-02-11
CATEGORIES:Featured
ATTACH;FMTTYPE=image/jpeg:https://buckhillbrewery.com/wp-content/uploads/2018/04/Weekly-Specials-v6-4.24.19.jpg
END:VEVENT
END:VCALENDAR